BEGIN:VCALENDAR
VERSION:2.0
PRODID:-//DerJuwelier.at - ECPv5.4.0//NONSGML v1.0//EN
CALSCALE:GREGORIAN
METHOD:PUBLISH
X-WR-CALNAME:DerJuwelier.at
X-ORIGINAL-URL:https://derjuwelier.at
X-WR-CALDESC:Veranstaltungen für DerJuwelier.at
BEGIN:VTIMEZONE
TZID:Europe/Vienna
BEGIN:DAYLIGHT
TZOFFSETFROM:+0100
TZOFFSETTO:+0200
TZNAME:CEST
DTSTART:20250330T010000
END:DAYLIGHT
BEGIN:STANDARD
TZOFFSETFROM:+0200
TZOFFSETTO:+0100
TZNAME:CET
DTSTART:20251026T010000
END:STANDARD
END:VTIMEZONE
BEGIN:VEVENT
DTSTART;VALUE=DATE:20250905
DTEND;VALUE=DATE:20250911
DTSTAMP:20260424T165241
CREATED:20250501T083307Z
LAST-MODIFIED:20250522T083708Z
UID:73567-1757055600-1757487599@derjuwelier.at
SUMMARY:VICENZAORO September 2025
DESCRIPTION:
URL:https://derjuwelier.at/event/vicenzaoro-september-2025/
LOCATION:Fiera di Vicenza\, Via dell'Oreficeria 16\, 36100 Vicenza\, Italy
END:VEVENT
END:VCALENDAR