BEGIN:VCALENDAR
VERSION:2.0
PRODID:-//DerJuwelier.at - ECPv5.4.0//NONSGML v1.0//EN
CALSCALE:GREGORIAN
METHOD:PUBLISH
X-WR-CALNAME:DerJuwelier.at
X-ORIGINAL-URL:https://derjuwelier.at
X-WR-CALDESC:Veranstaltungen für DerJuwelier.at
BEGIN:VTIMEZONE
TZID:Europe/Vienna
BEGIN:DAYLIGHT
TZOFFSETFROM:+0100
TZOFFSETTO:+0200
TZNAME:CEST
DTSTART:20250330T010000
END:DAYLIGHT
BEGIN:STANDARD
TZOFFSETFROM:+0200
TZOFFSETTO:+0100
TZNAME:CET
DTSTART:20251026T010000
END:STANDARD
END:VTIMEZONE
BEGIN:VEVENT
DTSTART;VALUE=DATE:20250829
DTEND;VALUE=DATE:20250902
DTSTAMP:20260424T140249
CREATED:20241027T130233Z
LAST-MODIFIED:20241029T134640Z
UID:69078-1756450800-1756709999@derjuwelier.at
SUMMARY:INOVA Collection 2025
DESCRIPTION:
URL:https://derjuwelier.at/event/inova-collection-2025/
LOCATION:Messecenter Hofheim Rhein-Main\, Robert-Bosch-Straße 5-7\, 65719 Hofheim-Wallau
END:VEVENT
END:VCALENDAR